BEGIN:VCALENDAR
VERSION:2.0
PRODID:-//ATO - Electronic - ECPv6.5.0//NONSGML v1.0//EN
CALSCALE:GREGORIAN
METHOD:PUBLISH
X-WR-CALNAME:ATO - Electronic
X-ORIGINAL-URL:https://ato-electronic.ch
X-WR-CALDESC:Veranstaltungen für ATO - Electronic
REFRESH-INTERVAL;VALUE=DURATION:PT1H
X-Robots-Tag:noindex
X-PUBLISHED-TTL:PT1H
BEGIN:VTIMEZONE
TZID:UTC
BEGIN:STANDARD
TZOFFSETFROM:+0000
TZOFFSETTO:+0000
TZNAME:UTC
DTSTART:20240101T000000
END:STANDARD
END:VTIMEZONE
BEGIN:VEVENT
DTSTART;VALUE=DATE:20240810
DTEND;VALUE=DATE:20240811
DTSTAMP:20260425T160530
CREATED:20240520T143404Z
LAST-MODIFIED:20240520T143440Z
UID:10400-1723248000-1723334399@ato-electronic.ch
SUMMARY:31. Streetparade
DESCRIPTION:Nach einer fantastischen Ausgabe im letzten Jahr werden wir die farbigste House- und Technoparade der Welt erneut gebührend feiern. Auch dieser Jahr wird ATO-Electronic die diesjährige Streetparade als Partner tatkräftig unterstützen.
URL:https://ato-electronic.ch/event/31-streetparade/
LOCATION:Zürich
END:VEVENT
END:VCALENDAR