BEGIN:VCALENDAR
VERSION:2.0
PRODID:-//ATO - Electronic - ECPv6.5.0//NONSGML v1.0//EN
CALSCALE:GREGORIAN
METHOD:PUBLISH
X-WR-CALNAME:ATO - Electronic
X-ORIGINAL-URL:https://ato-electronic.ch
X-WR-CALDESC:Veranstaltungen für ATO - Electronic
REFRESH-INTERVAL;VALUE=DURATION:PT1H
X-Robots-Tag:noindex
X-PUBLISHED-TTL:PT1H
BEGIN:VTIMEZONE
TZID:UTC
BEGIN:STANDARD
TZOFFSETFROM:+0000
TZOFFSETTO:+0000
TZNAME:UTC
DTSTART:20240101T000000
END:STANDARD
END:VTIMEZONE
BEGIN:VEVENT
DTSTART;TZID=UTC:20240615T100000
DTEND;TZID=UTC:20240615T160000
DTSTAMP:20260425T185440
CREATED:20240520T070155Z
LAST-MODIFIED:20240520T070611Z
UID:10379-1718445600-1718467200@ato-electronic.ch
SUMMARY:Oberstrassmärt 2024
DESCRIPTION:Der Höhepunkt im Quartierleben: Einen ganzen Samstag lang im Juni findet jedes Jahr rund um Kirche und Schulhaus ein farbiger Määrt statt: der Oberstrass Määrt! \nATO-Electronic ist für die Ton-Technik und Beschallung des Oberstrassmärt 2024 zuständig.
URL:https://ato-electronic.ch/event/oberstrassmaert-2024/
LOCATION:Kirche Oberstrass\, Stapferstrasse 58\, Zürich\, 8006\, Switzerland
END:VEVENT
END:VCALENDAR